BEGIN:VCALENDAR
VERSION:2.0
PRODID:-//Tukios.com/
BEGIN:VEVENT
UID:4384297e-2a23-4499-8923-e725d957bb20@www.caldwellparrish.com
DTSTAMP:20260425T011832Z
DTSTART:20260427T210000Z
DTEND:20260428T000000Z
SUMMARY:Memorial Gathering
DESCRIPTION:
URL:https://www.caldwellparrish.com/obituaries/terry-kuhns
LOCATION: 1823 North John Wayne Drive  Winterset IA 50273
GEO:41.3511074;-94.0127498
END:VEVENT
END:VCALENDAR