BEGIN:VCALENDAR
VERSION:2.0
PRODID:-//Tukios.com/
BEGIN:VEVENT
UID:0b707112-c8b1-4583-b33e-3c4ec15a313e@www.caldwellparrish.com
DTSTAMP:20260421T014052Z
DTSTART:20260430T190000Z
DTEND:20260430T200000Z
SUMMARY:Graveside Service
DESCRIPTION:
URL:https://www.caldwellparrish.com/obituaries/roger-hubbard
LOCATION: 34024 Veterans Memorial Drive  Adel IA 50003
GEO:41.5457581;-93.9480823
END:VEVENT
END:VCALENDAR