BEGIN:VCALENDAR
VERSION:2.0
PRODID:-//Tukios.com/
BEGIN:VEVENT
UID:f6d824a3-9d73-4334-9808-6ff3e0d83001@www.caldwellparrish.com
DTSTAMP:20260421T014215Z
DTSTART:20260424T153000Z
DTEND:20260424T163000Z
SUMMARY:Memorial Service
DESCRIPTION:
URL:https://www.caldwellparrish.com/obituaries/roger-hubbard
LOCATION: 1823 North John Wayne Drive  Winterset IA 50273
GEO:41.3511074;-94.0127498
END:VEVENT
END:VCALENDAR