BEGIN:VCALENDAR
VERSION:2.0
PRODID:-//Tukios.com/
BEGIN:VEVENT
UID:d1275a53-ed78-4d9a-89f4-a9d2d810d626@www.caldwellparrish.com
DTSTAMP:20260421T013745Z
DTSTART:20260501T220000Z
DTEND:20260502T000000Z
SUMMARY:Celebration of Life Open House
DESCRIPTION:
URL:https://www.caldwellparrish.com/obituaries/jonathan-fox
LOCATION:Roy R Estle Memorial Library 1308 Walnut St  Dallas Center IA 
	50063
GEO:41.6837995;-93.9603239
END:VEVENT
END:VCALENDAR