BEGIN:VCALENDAR
VERSION:2.0
PRODID:-//Tukios.com/
BEGIN:VEVENT
UID:9b2d6b9b-4a28-4343-9445-9636788c5c3b@www.caldwellparrish.com
DTSTAMP:20260421T025913Z
DTSTART:20260425T150000Z
DTEND:20260425T160000Z
SUMMARY:Funeral Service
DESCRIPTION:
URL:https://www.caldwellparrish.com/obituaries/john-pitsenbarger
LOCATION:Caldwell Parrish Funeral Home, Adel Chapel 735 South 14th Street 
	 Adel IA 50003
GEO:41.610804;-94.0256823
END:VEVENT
END:VCALENDAR