BEGIN:VCALENDAR
VERSION:2.0
PRODID:-//Tukios.com/
BEGIN:VEVENT
UID:b50eaa40-c336-45b3-84b3-4869c2fa2a84@www.caldwellparrish.com
DTSTAMP:20260421T025118Z
DTSTART:20260424T220000Z
DTEND:20260425T000000Z
SUMMARY:Visitation
DESCRIPTION:
URL:https://www.caldwellparrish.com/obituaries/john-pitsenbarger
LOCATION:Caldwell Parrish Funeral Home, Adel Chapel 735 South 14th Street 
	 Adel IA 50003
GEO:41.610804;-94.0256823
END:VEVENT
END:VCALENDAR