BEGIN:VCALENDAR
VERSION:2.0
PRODID:-//Tukios.com/
BEGIN:VEVENT
UID:6f661fe6-13d0-4198-8b29-45ba17ef4e55@www.caldwellparrish.com
DTSTAMP:20260420T182906Z
DTSTART:20260423T153000Z
DTEND:20260423T163000Z
SUMMARY:Funeral Service
DESCRIPTION:
URL:https://www.caldwellparrish.com/obituaries/dean-lauer
LOCATION: 1823 North John Wayne Drive  Winterset IA 50273
GEO:41.3511074;-94.0127498
END:VEVENT
END:VCALENDAR