BEGIN:VCALENDAR
VERSION:2.0
PRODID:-//Tukios.com/
BEGIN:VEVENT
UID:c3e9ea50-9c5c-4014-8c88-867c085431fd@www.caldwellparrish.com
DTSTAMP:20260420T182626Z
DTSTART:20260422T220000Z
DTEND:20260423T000000Z
SUMMARY:Visitation
DESCRIPTION:
URL:https://www.caldwellparrish.com/obituaries/dean-lauer
LOCATION: 1823 North John Wayne Drive  Winterset IA 50273
GEO:41.3511074;-94.0127498
END:VEVENT
END:VCALENDAR