BEGIN:VCALENDAR
VERSION:2.0
PRODID:-//Tukios.com/
BEGIN:VEVENT
UID:f0871997-ac09-4e43-8c7e-817ae077fa5b@www.caldwellparrish.com
DTSTAMP:20260420T181953Z
DTSTART:20260423T163000Z
DTEND:20260423T173000Z
SUMMARY:Burial
DESCRIPTION:
URL:https://www.caldwellparrish.com/obituaries/dean-lauer
LOCATION:Hill of Zion Cemetery 310th Street and Zion Road  Orient IA 
	50858
GEO:41.2006305;-94.3031192
END:VEVENT
END:VCALENDAR