BEGIN:VCALENDAR
VERSION:2.0
PRODID:-//Tukios.com/
BEGIN:VEVENT
UID:26d585c2-b17b-4f7e-a268-46e222f0822f@www.caldwellparrish.com
DTSTAMP:20260425T011403Z
DTSTART:20260515T190000Z
DTEND:20260515T200000Z
SUMMARY:Memorial Service
DESCRIPTION:
URL:https://www.caldwellparrish.com/obituaries/chloris-ellingson
LOCATION:Caldwell Parrish Funeral Home, Urbandale Chapel 8201 Hickman 
	Road  Urbandale IA 50322
GEO:41.615779;-93.7323169
END:VEVENT
END:VCALENDAR