BEGIN:VCALENDAR
VERSION:2.0
PRODID:-//Tukios.com/
BEGIN:VEVENT
UID:5ac536e7-8dd6-4d38-8d62-5d27b3a8c478@www.caldwellparrish.com
DTSTAMP:20260425T011651Z
DTSTART:20260515T180000Z
DTEND:20260515T190000Z
SUMMARY:Visitation
DESCRIPTION:
URL:https://www.caldwellparrish.com/obituaries/chloris-ellingson
LOCATION:Caldwell Parrish Funeral Home, Urbandale Chapel 8201 Hickman 
	Road  Urbandale IA 50322
GEO:41.615779;-93.7323169
END:VEVENT
END:VCALENDAR