BEGIN:VCALENDAR
VERSION:2.0
PRODID:-//Tukios.com/
BEGIN:VEVENT
UID:d67a7218-cee3-4c96-af69-33cd994ded8a@www.caldwellparrish.com
DTSTAMP:20260421T083415Z
DTSTART:20260306T230000Z
DTEND:20260307T010000Z
SUMMARY:Visitation
DESCRIPTION:
URL:https://www.caldwellparrish.com/obituaries/betty-duff
LOCATION:Caldwell Parrish Funeral Home & Crematory 8201 Hickman Rd  
	Urbandale IA 50322
GEO:41.615779;-93.7323169
END:VEVENT
END:VCALENDAR