BEGIN:VCALENDAR
VERSION:2.0
PRODID:-//Tukios.com/
BEGIN:VEVENT
UID:849bc6d2-77e8-4ff8-95c9-c4c912c50ae2@www.caldwellparrish.com
DTSTAMP:20260421T084433Z
DTSTART:20260417T203000Z
DTEND:20260417T210000Z
SUMMARY:Burial
DESCRIPTION:
URL:https://www.caldwellparrish.com/obituaries/allyn-kaduce
LOCATION:McDivitt Grove Cemetery 7001 Meredith Ave  Urbandale IA 50322
GEO:41.6444241;-93.711622
END:VEVENT
END:VCALENDAR